BEGIN:VCALENDAR
VERSION:2.0
PRODID:-//The Woman&#039;s Club of Raleigh - ECPv6.15.18//NONSGML v1.0//EN
CALSCALE:GREGORIAN
METHOD:PUBLISH
X-ORIGINAL-URL:https://womansclubofraleigh.org
X-WR-CALDESC:Events for The Woman&#039;s Club of Raleigh
REFRESH-INTERVAL;VALUE=DURATION:PT1H
X-Robots-Tag:noindex
X-PUBLISHED-TTL:PT1H
BEGIN:VTIMEZONE
TZID:America/New_York
BEGIN:DAYLIGHT
TZOFFSETFROM:-0500
TZOFFSETTO:-0400
TZNAME:EDT
DTSTART:20240310T070000
END:DAYLIGHT
BEGIN:STANDARD
TZOFFSETFROM:-0400
TZOFFSETTO:-0500
TZNAME:EST
DTSTART:20241103T060000
END:STANDARD
BEGIN:DAYLIGHT
TZOFFSETFROM:-0500
TZOFFSETTO:-0400
TZNAME:EDT
DTSTART:20250309T070000
END:DAYLIGHT
BEGIN:STANDARD
TZOFFSETFROM:-0400
TZOFFSETTO:-0500
TZNAME:EST
DTSTART:20251102T060000
END:STANDARD
BEGIN:DAYLIGHT
TZOFFSETFROM:-0500
TZOFFSETTO:-0400
TZNAME:EDT
DTSTART:20260308T070000
END:DAYLIGHT
BEGIN:STANDARD
TZOFFSETFROM:-0400
TZOFFSETTO:-0500
TZNAME:EST
DTSTART:20261101T060000
END:STANDARD
END:VTIMEZONE
BEGIN:VEVENT
DTSTART;TZID=America/New_York:20251101T090000
DTEND;TZID=America/New_York:20251101T140000
DTSTAMP:20260420T051632
CREATED:20250918T000701Z
LAST-MODIFIED:20251019T174818Z
UID:8327-1761987600-1762005600@womansclubofraleigh.org
SUMMARY:District VI Music Festival
DESCRIPTION: GFWC and The Woman’s Club of Raleigh are pleased to present The 58th Annual Student MusicCompetition on Saturday\, November 1\, 2025\, 9:00 am to 1:30 pm. This is open to all students in grades 9 -12 in District VI. We invite you to help us recruit students: your children\, grandchildren\, nieces andnephews\, friends\, neighbors\, church or other social group members\, etc. \nThis is a juried competition withcash awards\, and students can enter in one of four categories: 1) Vocal 2) Piano 3) Strings and 4) OtherInstruments. The deadline for application submission is October 24\, 2025.Any questions or for an application contact Student Music Competition Chair Nancy Canterburyat WCRstudentmusiccontestinfo@gmail.com.
URL:https://womansclubofraleigh.org/event/district-vi-music-festival/
END:VEVENT
BEGIN:VEVENT
DTSTART;TZID=America/New_York:20251103T084500
DTEND;TZID=America/New_York:20251103T111500
DTSTAMP:20260420T051632
CREATED:20250918T000701Z
LAST-MODIFIED:20250918T000701Z
UID:8328-1762159500-1762168500@womansclubofraleigh.org
SUMMARY:Exec. Comm.-Club Ofc
DESCRIPTION:
URL:https://womansclubofraleigh.org/event/exec-comm-club-ofc-2/
END:VEVENT
BEGIN:VEVENT
DTSTART;TZID=America/New_York:20251103T094500
DTEND;TZID=America/New_York:20251103T121500
DTSTAMP:20260420T051632
CREATED:20251001T223027Z
LAST-MODIFIED:20251019T174818Z
UID:8530-1762163100-1762172100@womansclubofraleigh.org
SUMMARY:Exec. Comm.-Club Ofc
DESCRIPTION:
URL:https://womansclubofraleigh.org/event/exec-comm-club-ofc-3/
END:VEVENT
BEGIN:VEVENT
DTSTART;TZID=America/New_York:20251103T190000
DTEND;TZID=America/New_York:20251103T200000
DTSTAMP:20260420T051632
CREATED:20251001T223027Z
LAST-MODIFIED:20251019T174818Z
UID:8531-1762196400-1762200000@womansclubofraleigh.org
SUMMARY:AIC Mtg. via Zoom
DESCRIPTION:
URL:https://womansclubofraleigh.org/event/aic-mtg-via-zoom/
END:VEVENT
BEGIN:VEVENT
DTSTART;TZID=America/New_York:20251104T140000
DTEND;TZID=America/New_York:20251104T153000
DTSTAMP:20260420T051632
CREATED:20250918T000701Z
LAST-MODIFIED:20251019T174818Z
UID:8329-1762264800-1762270200@womansclubofraleigh.org
SUMMARY:SINGERS-Woman's Club Singers
DESCRIPTION:In the President’s Parlor. All members are invited to join the Woman’s Club Singers. The Singers practice weekly when possible\, provide entertainment at senior living and assisted living homes\, and have a great time together. To learn more\, contact ???
URL:https://womansclubofraleigh.org/event/singers-womans-club-singers-7/
END:VEVENT
BEGIN:VEVENT
DTSTART;TZID=America/New_York:20251105T083000
DTEND;TZID=America/New_York:20251105T103000
DTSTAMP:20260420T051632
CREATED:20250918T000702Z
LAST-MODIFIED:20250918T000702Z
UID:8332-1762331400-1762338600@womansclubofraleigh.org
SUMMARY:CARDS-Five Crowns
DESCRIPTION:Members meet for camaraderie and fun to play Five Crowns in the Maddrey Parlor the first Wednesday of the month. Every one is welcome. It’s easy to learn to play. For more information\, contact Pat Davis.
URL:https://womansclubofraleigh.org/event/cards-five-crowns-2/
END:VEVENT
BEGIN:VEVENT
DTSTART;TZID=America/New_York:20251105T093000
DTEND;TZID=America/New_York:20251105T113000
DTSTAMP:20260420T051632
CREATED:20251001T223027Z
LAST-MODIFIED:20251019T174818Z
UID:8532-1762335000-1762342200@womansclubofraleigh.org
SUMMARY:CARDS-Five Crowns
DESCRIPTION:Members meet for camaraderie and fun to play Five Crowns in the Maddrey Parlor the first Wednesday of the month. Every one is welcome. It’s easy to learn to play. For more information\, contact Pat Davis.
URL:https://womansclubofraleigh.org/event/cards-five-crowns-8/
END:VEVENT
BEGIN:VEVENT
DTSTART;TZID=America/New_York:20251105T100000
DTEND;TZID=America/New_York:20251105T120000
DTSTAMP:20260420T051632
CREATED:20250918T000701Z
LAST-MODIFIED:20251019T174818Z
UID:8330-1762336800-1762344000@womansclubofraleigh.org
SUMMARY:Fund.&Dev.Mtg
DESCRIPTION:Contact: Julia Carpenter. Members of the Fundraising and Development Committee meet to plan fundraising activities to raise money to fund community grants\, scholarships\, and other community outreach programs. The major fundraiser is the annual Winter Wonderland Gala. Others include a Make a Bake Sale\, Holiday Flower Sales\, and Winter Games. \nFundraising and Development on the Calendar for: 1st Wednesday every month in the club office or other space that is available; 10-noon
URL:https://womansclubofraleigh.org/event/fund-dev-mtg-2/
END:VEVENT
BEGIN:VEVENT
DTSTART;TZID=America/New_York:20251105T100000
DTEND;TZID=America/New_York:20251105T120000
DTSTAMP:20260420T051632
CREATED:20250918T000702Z
LAST-MODIFIED:20251019T174832Z
UID:8331-1762336800-1762344000@womansclubofraleigh.org
SUMMARY:BRIDGE Group
DESCRIPTION:Four No Trump Bridge Group. Members who enjoy playing bridge together meet on the first Wednesday of the month at the club. For more information\, contact ?\nIn the Stevens Dining Room and Board Room
URL:https://womansclubofraleigh.org/event/bridge-group-2/
END:VEVENT
BEGIN:VEVENT
DTSTART;TZID=America/New_York:20251106T100000
DTEND;TZID=America/New_York:20251106T110000
DTSTAMP:20260420T051632
CREATED:20251001T223028Z
LAST-MODIFIED:20251019T174832Z
UID:8533-1762423200-1762426800@womansclubofraleigh.org
SUMMARY:Trustees Meeting
DESCRIPTION:In the Maddrey Parlor
URL:https://womansclubofraleigh.org/event/trustees-meeting-2/
END:VEVENT
BEGIN:VEVENT
DTSTART;TZID=America/New_York:20251107T100000
DTEND;TZID=America/New_York:20251107T120000
DTSTAMP:20260420T051632
CREATED:20251001T223042Z
LAST-MODIFIED:20251019T174832Z
UID:8535-1762509600-1762516800@womansclubofraleigh.org
SUMMARY:Long Range Planning Cmt.
DESCRIPTION:Contact-Carol Cato\nIn the club office
URL:https://womansclubofraleigh.org/event/long-range-planning-cmt/
END:VEVENT
BEGIN:VEVENT
DTSTART;TZID=America/New_York:20251107T120000
DTEND;TZID=America/New_York:20251107T123000
DTSTAMP:20260420T051632
CREATED:20251001T223042Z
LAST-MODIFIED:20251001T223042Z
UID:8534-1762516800-1762518600@womansclubofraleigh.org
SUMMARY:CIP at Mt. Vernon
DESCRIPTION:CIP Service Day at Mt. Vernon Middle School
URL:https://womansclubofraleigh.org/event/cip-at-mt-vernon/
END:VEVENT
BEGIN:VEVENT
DTSTART;TZID=America/New_York:20251107T180000
DTEND;TZID=America/New_York:20251107T200000
DTSTAMP:20260420T051632
CREATED:20251001T223042Z
LAST-MODIFIED:20251019T174832Z
UID:8536-1762538400-1762545600@womansclubofraleigh.org
SUMMARY:GFWC-NC Corporate Champions
DESCRIPTION:Details: Corporate Champions\nDate/s: November 7 (evening Champions fundraiser)
URL:https://womansclubofraleigh.org/event/gfwc-nc-corporate-champions/
END:VEVENT
BEGIN:VEVENT
DTSTART;TZID=America/New_York:20251108T090000
DTEND;TZID=America/New_York:20251108T140000
DTSTAMP:20260420T051632
CREATED:20251001T223043Z
LAST-MODIFIED:20251019T174832Z
UID:8537-1762592400-1762610400@womansclubofraleigh.org
SUMMARY:GFWC- NC State Meeting
DESCRIPTION:Details:\nName: Jill Dedene\nFall Conference
URL:https://womansclubofraleigh.org/event/gfwc-nc-state-meeting/
END:VEVENT
BEGIN:VEVENT
DTSTART;TZID=America/New_York:20251110T090000
DTEND;TZID=America/New_York:20251110T093000
DTSTAMP:20260420T051632
CREATED:20251001T223043Z
LAST-MODIFIED:20251019T174832Z
UID:8538-1762765200-1762767000@womansclubofraleigh.org
SUMMARY:Bylaws Committee
DESCRIPTION:Club Office
URL:https://womansclubofraleigh.org/event/bylaws-committee-2/
END:VEVENT
BEGIN:VEVENT
DTSTART;TZID=America/New_York:20251110T093000
DTEND;TZID=America/New_York:20251110T103000
DTSTAMP:20260420T051632
CREATED:20251001T223043Z
LAST-MODIFIED:20251019T174832Z
UID:8539-1762767000-1762770600@womansclubofraleigh.org
SUMMARY:P&P Committee
DESCRIPTION:In the Club Office
URL:https://womansclubofraleigh.org/event/pp-committee-2/
END:VEVENT
BEGIN:VEVENT
DTSTART;TZID=America/New_York:20251111T140000
DTEND;TZID=America/New_York:20251111T153000
DTSTAMP:20260420T051632
CREATED:20250918T000702Z
LAST-MODIFIED:20251019T174832Z
UID:8333-1762869600-1762875000@womansclubofraleigh.org
SUMMARY:SINGERS-Woman's Club Singers
DESCRIPTION:In the President’s Parlor. All members are invited to join the Woman’s Club Singers. The Singers practice weekly when possible\, provide entertainment at senior living and assisted living homes\, and have a great time together. To learn more\, contact ???
URL:https://womansclubofraleigh.org/event/singers-womans-club-singers-8/
END:VEVENT
BEGIN:VEVENT
DTSTART;TZID=America/New_York:20251111T140000
DTEND;TZID=America/New_York:20251111T160000
DTSTAMP:20260420T051632
CREATED:20251019T174832Z
LAST-MODIFIED:20251019T174832Z
UID:8607-1762869600-1762876800@womansclubofraleigh.org
SUMMARY:Artist's Gallery Event
DESCRIPTION:Visitors are welcome to view the art of the artist of the month in the Bryant Art Gallery.
URL:https://womansclubofraleigh.org/event/artists-gallery-event/
END:VEVENT
BEGIN:VEVENT
DTSTART;TZID=America/New_York:20251111T160000
DTEND;TZID=America/New_York:20251111T190000
DTSTAMP:20260420T051632
CREATED:20250918T000702Z
LAST-MODIFIED:20251001T223043Z
UID:8334-1762876800-1762887600@womansclubofraleigh.org
SUMMARY:JUNIOR WOMAN'S Club Mtg
DESCRIPTION:Guests welcome. For more information\, contact ???
URL:https://womansclubofraleigh.org/event/junior-womans-club-mtg-2/
LOCATION:3300 Woman’s Club Dr\, Raleigh\, NC\, United States
END:VEVENT
BEGIN:VEVENT
DTSTART;TZID=America/New_York:20251111T170000
DTEND;TZID=America/New_York:20251111T200000
DTSTAMP:20260420T051632
CREATED:20251019T174845Z
LAST-MODIFIED:20251019T174845Z
UID:8608-1762880400-1762891200@womansclubofraleigh.org
SUMMARY:JUNIOR WOMAN'S Club Mtg
DESCRIPTION:Guests welcome. For more information\, contact ???
URL:https://womansclubofraleigh.org/event/junior-womans-club-mtg-9/
LOCATION:3300 Woman’s Club Dr\, Raleigh\, NC\, United States
END:VEVENT
BEGIN:VEVENT
DTSTART;TZID=America/New_York:20251111T180000
DTEND;TZID=America/New_York:20251111T190000
DTSTAMP:20260420T051632
CREATED:20251001T223043Z
LAST-MODIFIED:20251019T174832Z
UID:8540-1762884000-1762887600@womansclubofraleigh.org
SUMMARY:Night Owls-Wine & Cheese
DESCRIPTION:Wine and Cheese event
URL:https://womansclubofraleigh.org/event/night-owls-wine-cheese-11/
END:VEVENT
BEGIN:VEVENT
DTSTART;TZID=America/New_York:20251112T104500
DTEND;TZID=America/New_York:20251112T124500
DTSTAMP:20260420T051632
CREATED:20250918T000702Z
LAST-MODIFIED:20251019T174846Z
UID:8335-1762944300-1762951500@womansclubofraleigh.org
SUMMARY:General Meeting & Lunch
DESCRIPTION:
URL:https://womansclubofraleigh.org/event/general-meeting-lunch/
END:VEVENT
BEGIN:VEVENT
DTSTART;TZID=America/New_York:20251112T111500
DTEND;TZID=America/New_York:20251112T114500
DTSTAMP:20260420T051632
CREATED:20250918T000703Z
LAST-MODIFIED:20251019T174846Z
UID:8336-1762946100-1762947900@womansclubofraleigh.org
SUMMARY:Birthday Celebration
DESCRIPTION:Members whose birthdays are in September are invited to stop by the Club Office and enjoy a delicious cupcake to celebrate their special day.
URL:https://womansclubofraleigh.org/event/birthday-celebration-2/
END:VEVENT
BEGIN:VEVENT
DTSTART;TZID=America/New_York:20251112T114500
DTEND;TZID=America/New_York:20251112T134500
DTSTAMP:20260420T051632
CREATED:20251001T223057Z
LAST-MODIFIED:20251019T174846Z
UID:8541-1762947900-1762955100@womansclubofraleigh.org
SUMMARY:General Meeting & Lunch
DESCRIPTION:Hosted by Education and Librairies; Speakers – Wake County superintendent of schools/Board Members and WakeEd Partnership\nTopic: Can I level with You? You Can Make a Difference!\nAlso\, Remembrance Service
URL:https://womansclubofraleigh.org/event/general-meeting-lunch-9/
END:VEVENT
BEGIN:VEVENT
DTSTART;TZID=America/New_York:20251114T120000
DTEND;TZID=America/New_York:20251114T130000
DTSTAMP:20260420T051632
CREATED:20251019T174846Z
LAST-MODIFIED:20251019T174846Z
UID:8609-1763121600-1763125200@womansclubofraleigh.org
SUMMARY:NC Symphony Friday Favorites
DESCRIPTION:Contact: Lin Ginsler
URL:https://womansclubofraleigh.org/event/nc-symphony-friday-favorites/
END:VEVENT
BEGIN:VEVENT
DTSTART;TZID=America/New_York:20251117T103000
DTEND;TZID=America/New_York:20251117T120000
DTSTAMP:20260420T051632
CREATED:20251019T174846Z
LAST-MODIFIED:20251019T174846Z
UID:8610-1763375400-1763380800@womansclubofraleigh.org
SUMMARY:JJ Book Club
DESCRIPTION:            Book: The Life Impossible by Matt Haig. Facilitator: Carol CatoMeeting in the Presidents Parlor; Contact – Nancy Hartge
URL:https://womansclubofraleigh.org/event/jj-book-club/
END:VEVENT
BEGIN:VEVENT
DTSTART;TZID=America/New_York:20251117T130000
DTEND;TZID=America/New_York:20251117T140000
DTSTAMP:20260420T051632
CREATED:20250918T000703Z
LAST-MODIFIED:20250918T000703Z
UID:8337-1763384400-1763388000@womansclubofraleigh.org
SUMMARY:Nwsltter Circulation-Copy Room
DESCRIPTION:
URL:https://womansclubofraleigh.org/event/nwsltter-circulation-copy-room-2/
END:VEVENT
BEGIN:VEVENT
DTSTART;TZID=America/New_York:20251118T100000
DTEND;TZID=America/New_York:20251118T110000
DTSTAMP:20260420T051632
CREATED:20251019T174846Z
LAST-MODIFIED:20251019T174846Z
UID:8611-1763460000-1763463600@womansclubofraleigh.org
SUMMARY:Clubhouse Committee Meeting
DESCRIPTION:Meeting in the Stevens Dining Room. Contact – Janet Leggett.
URL:https://womansclubofraleigh.org/event/clubhouse-committee-meeting-3/
END:VEVENT
BEGIN:VEVENT
DTSTART;TZID=America/New_York:20251118T140000
DTEND;TZID=America/New_York:20251118T153000
DTSTAMP:20260420T051632
CREATED:20250918T000703Z
LAST-MODIFIED:20251019T174846Z
UID:8338-1763474400-1763479800@womansclubofraleigh.org
SUMMARY:SINGERS-Woman's Club Singers
DESCRIPTION:In the President’s Parlor. All members are invited to join the Woman’s Club Singers. The Singers practice weekly when possible\, provide entertainment at senior living and assisted living homes\, and have a great time together. To learn more\, contact ???
URL:https://womansclubofraleigh.org/event/singers-womans-club-singers-9/
END:VEVENT
BEGIN:VEVENT
DTSTART;TZID=America/New_York:20251118T180000
DTEND;TZID=America/New_York:20251118T190000
DTSTAMP:20260420T051632
CREATED:20250918T000703Z
LAST-MODIFIED:20250918T000703Z
UID:8339-1763488800-1763492400@womansclubofraleigh.org
SUMMARY:NIGHT OWLS-Wine & Cheese
DESCRIPTION:Wine and Cheese event. Guests welcome. For more information\, contact ???
URL:https://womansclubofraleigh.org/event/night-owls-wine-cheese-3/
LOCATION:3300 Woman’s Club Dr\, Raleigh\, NC\, United States
END:VEVENT
END:VCALENDAR